BEGIN:VCALENDAR
VERSION:2.0
PRODID:-//The Campfire Fund - ECPv6.15.20//NONSGML v1.0//EN
CALSCALE:GREGORIAN
METHOD:PUBLISH
X-ORIGINAL-URL:https://thecampfirefund.org
X-WR-CALDESC:Events for The Campfire Fund
REFRESH-INTERVAL;VALUE=DURATION:PT1H
X-Robots-Tag:noindex
X-PUBLISHED-TTL:PT1H
BEGIN:VTIMEZONE
TZID:UTC
BEGIN:STANDARD
TZOFFSETFROM:+0000
TZOFFSETTO:+0000
TZNAME:UTC
DTSTART:20220101T000000
END:STANDARD
END:VTIMEZONE
BEGIN:VEVENT
DTSTART;TZID=UTC:20231223T160000
DTEND;TZID=UTC:20231223T200000
DTSTAMP:20260421T130347
CREATED:20231031T214638Z
LAST-MODIFIED:20231031T214638Z
UID:1840-1703347200-1703361600@thecampfirefund.org
SUMMARY:DecemBEARD
DESCRIPTION:Ho Ho Ho Mother Truckers!\nIt’s that time of year again…what time is it you ask… Time to plump your sack\, polish your\nsled\, flog your reindeer\, and fondle a fat man’s beard… BUT it is also time to wax your\nwalrus\, do it to your Dali\, perfect your pencil\, dress-up your dirt-squirrel\, get naughty with\nyour natural\, handle your handlebar\, groom your goatee\, validate your van dyke\, and bust\nout your best beard for The Campfire Fund of Florida’s 2nd Annual Beard and Mustache\nCompetition!\nDecemBEARD!!!\nDecemBEARD!!!\nDecemBEARD!!!\n(good things come in threes\, right?)\nThe When – Saturday December 23rd 2023 4-8pm with music to follow 9pm – 1am\nThe Where – The Handle Bar (how f’n perfect is that?) 319 N Tarragona St\, Pensacola\, FL\n32501\nThe What – Beard and Mustache Competition for Charity Presented by Innuendo Beard\nCompany for the Benefit of The Campfire Fund of Florida (The Campfire Fund for Men’s\nMental Health on Facebook)\n$20 entry fee per category\nClick here to register!\nCategories\n–Natural Mustache\n–Styled Mustache\n–Partial Beard\n–Full Beard Under 6”\n–Full Beard Over 6”\n–Whiskerina\nThe Why – Because I said so\, now do it and like it!\nThe Rest – This year we will be Rockin Out to Metal\, Punk\, Rock\, and Alternative vibrations.\nBitter Blood will be jamming during the Beard and Mustache Competition from 4-8pm then\nat 9pm we will kick it a fur more hours with Bitter Blood\, Caving In\, Nothing to Nobody\, and\nDead Allies.\nWe will also be running 50/50 raffles in between each category so bring your stinky &amp;\nwrinkly\, or clean &amp; green just make sure to have a fat stack of American moolah to partake\nin the raffles. \nAll proceeds from the entry fees\, raffles\, donations\, and t-shirts sales go directly to support\nThe Campfire Fund of Florida. The Campfire Fund of Florida is a Pensacola based 501(C)3\nnon-profit that raises awareness for men’s mental health issues and raises money to fund\nmental health resources for men in the community. The Campfire Fund of Florida works\ndirectly with local therapists to provide mental health counseling services to those in need.
URL:https://thecampfirefund.org/event/decembeard/
LOCATION:The Handlebar\, 319 N Tarragona St\, Pensacola\, FL\, 32501\, United States
CATEGORIES:Fundraisers
ORGANIZER;CN="The Campfire Fund of Florida":MAILTO:contact@thecampfirefund.org
END:VEVENT
END:VCALENDAR